BEGIN:VCALENDAR
VERSION:2.0
PRODID:-//ChamberMaster//Event Calendar 2.0//EN
METHOD:PUBLISH
X-PUBLISHED-TTL:P3D
REFRESH-INTERVAL:P3D
CALSCALE:GREGORIAN
BEGIN:VEVENT
DTSTART:20170315T013000Z
DTEND:20170315T040000Z
X-MICROSOFT-CDO-ALLDAYEVENT:FALSE
SUMMARY:Mammoth USD Facilities Master Plan Workshop
DESCRIPTION:Mammoth USD wants your input! Come share your thoughts at Mammoth USD's Facilities Master Plan community workshop. Childcare and snacks will be provided.
X-ALT-DESC;FMTTYPE=text/html:Mammoth USD wants your input! Come share your thoughts at Mammoth USD&#39\;s Facilities Master Plan community workshop. Childcare and snacks will be provided.
LOCATION:Mammoth High School MPR
UID:e.2291.603
SEQUENCE:3
DTSTAMP:20260420T020159Z
URL:http://mammothlakeschamber.chambermaster.com/events/details/mammoth-usd-facilities-master-plan-workshop-603
END:VEVENT

END:VCALENDAR
